BEGIN:VCALENDAR
VERSION:2.0
PRODID:-//Danny Knapp | SoCal Session &amp; Touring Bass Guitarist - ECPv6.15.17//NONSGML v1.0//EN
CALSCALE:GREGORIAN
METHOD:PUBLISH
X-ORIGINAL-URL:https://melonheadmusic.com
X-WR-CALDESC:Events for Danny Knapp | SoCal Session &amp; Touring Bass Guitarist
REFRESH-INTERVAL;VALUE=DURATION:PT1H
X-Robots-Tag:noindex
X-PUBLISHED-TTL:PT1H
BEGIN:VTIMEZONE
TZID:America/Los_Angeles
BEGIN:DAYLIGHT
TZOFFSETFROM:-0800
TZOFFSETTO:-0700
TZNAME:PDT
DTSTART:20190310T100000
END:DAYLIGHT
BEGIN:STANDARD
TZOFFSETFROM:-0700
TZOFFSETTO:-0800
TZNAME:PST
DTSTART:20191103T090000
END:STANDARD
BEGIN:DAYLIGHT
TZOFFSETFROM:-0800
TZOFFSETTO:-0700
TZNAME:PDT
DTSTART:20200308T100000
END:DAYLIGHT
BEGIN:STANDARD
TZOFFSETFROM:-0700
TZOFFSETTO:-0800
TZNAME:PST
DTSTART:20201101T090000
END:STANDARD
BEGIN:DAYLIGHT
TZOFFSETFROM:-0800
TZOFFSETTO:-0700
TZNAME:PDT
DTSTART:20210314T100000
END:DAYLIGHT
BEGIN:STANDARD
TZOFFSETFROM:-0700
TZOFFSETTO:-0800
TZNAME:PST
DTSTART:20211107T090000
END:STANDARD
END:VTIMEZONE
BEGIN:VEVENT
DTSTART;TZID=America/Los_Angeles:20200913T190000
DTEND;TZID=America/Los_Angeles:20200913T220000
DTSTAMP:20260419T054939
CREATED:20200608T052722Z
LAST-MODIFIED:20200608T052904Z
UID:932-1600023600-1600034400@melonheadmusic.com
SUMMARY:L.A. Sound Machine
DESCRIPTION:
URL:https://melonheadmusic.com/show/l-a-sound-machine/
LOCATION:Fantasy Springs\, 84-245 Indio Springs Pkwy\, Indio\, CA\, 92203-3499\, United States
ATTACH;FMTTYPE=image/jpeg:https://melonheadmusic.com/wp-content/uploads/2020/02/Danny_Knapp_Melonhead_LA_Sound_Machine_Latin_Music.jpg
END:VEVENT
BEGIN:VEVENT
DTSTART;TZID=America/Los_Angeles:20200812T190000
DTEND;TZID=America/Los_Angeles:20200812T210000
DTSTAMP:20260419T054939
CREATED:20200608T051441Z
LAST-MODIFIED:20200608T052917Z
UID:923-1597258800-1597266000@melonheadmusic.com
SUMMARY:L.A. Sound Machine
DESCRIPTION:Gather the family\, call your friends\, and invite your neighbors to kick off this summer’s free Concerts in the Park.  The 2020 musical lineup will include a variety of exciting entertainment that will keep your feet tapping and dancing to the beat.  Food will be available for purchase at the food trucks.  EDCO Disposal is a long-standing sponsors that make the concerts happen year after year! \n\n\n\nThere will be a free livestream on the City of Buena Park’s YouTube and Facebook! \n\n\n\nDue to limited seating and required social distancing standards\,  event  seating  will  be  by  reservation  only.    Starting July 13\, to book a reservation\, please call (714)562-3860 during our  office  hours  of Monday through  Thursday  and alternating Fridays from 7:30 a.m. to 5:30 p.m.  Don’t forget to bring a blanket and chairs
URL:https://melonheadmusic.com/show/lasm-buena-park-2020/
LOCATION:Buena Park Summer Concert Series\, 7520 Dale St\, Buena Park\, CA\, 90620\, United States
ATTACH;FMTTYPE=image/jpeg:https://melonheadmusic.com/wp-content/uploads/2020/02/Danny_Knapp_Melonhead_LA_Sound_Machine_Latin_Music.jpg
END:VEVENT
BEGIN:VEVENT
DTSTART;TZID=America/Los_Angeles:20200421T110000
DTEND;TZID=America/Los_Angeles:20200421T130000
DTSTAMP:20260419T054939
CREATED:20200301T054712Z
LAST-MODIFIED:20200301T054715Z
UID:798-1587466800-1587474000@melonheadmusic.com
SUMMARY:We're No Gentlemen
DESCRIPTION:
URL:https://melonheadmusic.com/show/were-no-gentlemen-2/
LOCATION:CA
ATTACH;FMTTYPE=image/png:https://melonheadmusic.com/wp-content/uploads/2020/02/Danny_Knapp_Melonhead_Were_No_Gentlemen_Official_Photo.png
END:VEVENT
BEGIN:VEVENT
DTSTART;TZID=America/Los_Angeles:20200320T200000
DTEND;TZID=America/Los_Angeles:20200320T230000
DTSTAMP:20260419T054939
CREATED:20200221T224700Z
LAST-MODIFIED:20200301T053554Z
UID:785-1584734400-1584745200@melonheadmusic.com
SUMMARY:Identity Theft
DESCRIPTION:
URL:https://melonheadmusic.com/show/identity-theft-mozambique/
LOCATION:Mozambique\, 1740 S Coast Hwy\, Laguna Beach\, CA\, 92651\, United States
ATTACH;FMTTYPE=image/jpeg:https://melonheadmusic.com/wp-content/uploads/2020/02/Danny_Knapp_Melonhead_Downtown_Disney_Show_Live.jpg
END:VEVENT
BEGIN:VEVENT
DTSTART;TZID=America/Los_Angeles:20200314T193000
DTEND;TZID=America/Los_Angeles:20200314T223000
DTSTAMP:20260419T054939
CREATED:20200221T223918Z
LAST-MODIFIED:20200301T053546Z
UID:780-1584214200-1584225000@melonheadmusic.com
SUMMARY:LA Sound Machine
DESCRIPTION:
URL:https://melonheadmusic.com/show/la-sound-machine-the-rockyard-fantasy-springs/
LOCATION:Fantasy Springs\, 84-245 Indio Springs Pkwy\, Indio\, CA\, 92203-3499\, United States
ATTACH;FMTTYPE=image/jpeg:https://melonheadmusic.com/wp-content/uploads/2020/02/Danny_Knapp_Melonhead_LA_Sound_Machine_Latin_Music.jpg
END:VEVENT
BEGIN:VEVENT
DTSTART;TZID=America/Los_Angeles:20200313T210000
DTEND;TZID=America/Los_Angeles:20200313T230000
DTSTAMP:20260419T054939
CREATED:20200301T054015Z
LAST-MODIFIED:20200301T054433Z
UID:793-1584133200-1584140400@melonheadmusic.com
SUMMARY:We're No Gentlemen
DESCRIPTION:
URL:https://melonheadmusic.com/show/were-no-gentlemen/
LOCATION:Characters\, 276 E 1st St\, Pomona\, CA\, 91766\, United States
ATTACH;FMTTYPE=image/png:https://melonheadmusic.com/wp-content/uploads/2020/02/Danny_Knapp_Melonhead_Were_No_Gentlemen_Official_Photo.png
END:VEVENT
BEGIN:VEVENT
DTSTART;TZID=America/Los_Angeles:20200221T200000
DTEND;TZID=America/Los_Angeles:20200221T233000
DTSTAMP:20260419T054939
CREATED:20200117T210150Z
LAST-MODIFIED:20200122T110153Z
UID:326-1582315200-1582327800@melonheadmusic.com
SUMMARY:Thank U\, Drive Thru - Huntington Beach\, CA
DESCRIPTION:
URL:https://melonheadmusic.com/show/thank-u-drive-thru-huntington-beach-ca/
LOCATION:CA
ATTACH;FMTTYPE=image/jpeg:https://melonheadmusic.com/wp-content/uploads/2020/01/Danny_Knapp_Melonhead_With_Thank_U_Drive_Thru.jpg
END:VEVENT
BEGIN:VEVENT
DTSTART;TZID=America/Los_Angeles:20200213T190000
DTEND;TZID=America/Los_Angeles:20200213T220000
DTSTAMP:20260419T054939
CREATED:20200117T205905Z
LAST-MODIFIED:20200122T105610Z
UID:323-1581620400-1581631200@melonheadmusic.com
SUMMARY:LA Sound Machine
DESCRIPTION:
URL:https://melonheadmusic.com/show/la-sound-machine-tucson-az/
LOCATION:Casino Del Sol\, 5655 W Valencia Rd\, Tucson\, AZ\, 85757\, United States
ATTACH;FMTTYPE=image/jpeg:https://melonheadmusic.com/wp-content/uploads/2020/01/Danny_Knapp_Melonhead_LA_Sound_Machine_Gloria_Estefan_Tribute.jpg
END:VEVENT
BEGIN:VEVENT
DTSTART;TZID=America/Los_Angeles:20200203T180000
DTEND;TZID=America/Los_Angeles:20200203T220000
DTSTAMP:20260419T054939
CREATED:20200117T205645Z
LAST-MODIFIED:20200122T105634Z
UID:321-1580752800-1580767200@melonheadmusic.com
SUMMARY:Identity Theft
DESCRIPTION:
URL:https://melonheadmusic.com/show/identity-theft-downtown-disney/
LOCATION:Downtown Disney\, 1580 Disneyland Dr\, Anaheim\, CA\, 92802\, United States
ATTACH;FMTTYPE=image/jpeg:https://melonheadmusic.com/wp-content/uploads/2020/01/Danny_Knapp_Melonhead_Performing_Disney_Downtown_Live.jpg
END:VEVENT
BEGIN:VEVENT
DTSTART;TZID=America/Los_Angeles:20200126T210000
DTEND;TZID=America/Los_Angeles:20200126T233000
DTSTAMP:20260419T054939
CREATED:20200118T142632Z
LAST-MODIFIED:20200122T105649Z
UID:329-1580072400-1580081400@melonheadmusic.com
SUMMARY:We're No Gentlemen
DESCRIPTION:
URL:https://melonheadmusic.com/show/were-no-gentlemen-costa-mesa-ca/
LOCATION:Tiki Bar\, 1700 Placentia Ave\, Costa Mesa\, CA\, 92627\, United States
ATTACH;FMTTYPE=image/jpeg:https://melonheadmusic.com/wp-content/uploads/2020/01/Danny_Knapp_Melonhead_Were_No_Gentlemen_Live_Show.jpg
END:VEVENT
BEGIN:VEVENT
DTSTART;TZID=America/Los_Angeles:20200111T130000
DTEND;TZID=America/Los_Angeles:20200111T140000
DTSTAMP:20260419T054939
CREATED:20200111T043226Z
LAST-MODIFIED:20200122T105714Z
UID:275-1578747600-1578751200@melonheadmusic.com
SUMMARY:We're No Gentlemen
DESCRIPTION:
URL:https://melonheadmusic.com/show/were-no-gentlemen-long-beach-ca/
LOCATION:diPiazza\, Long Beach\, CA\, United States
ATTACH;FMTTYPE=image/jpeg:https://melonheadmusic.com/wp-content/uploads/2020/01/Danny_Knapp_Melonhead_Were_No_Gentlemen_Live_Show.jpg
END:VEVENT
END:VCALENDAR